BEGIN:VCALENDAR
VERSION:2.0
PRODID:-//ChurchDev//Events//EN
CALSCALE:GREGORIAN
METHOD:PUBLISH
BEGIN:VEVENT
UID:26802-20230626@www.setonchurch.org
SUMMARY:Vacation Bible Camp
DTSTART:20230626T143000Z
DTEND:20230626T180000Z
DESCRIPTION:Children entering kindergarten through 5th grades are in for a real treat this summer when we conduct our Vacation Bible Camp (VBC) program. VBC consists of a Bible reading and activities that reinforce its message. The children also enjoy arts and crafts\, music\, games\, and snacks. \\nThis year’s theme is Discovery Mission\, Catholic Vocation Bible Camp. Embark on a “Discovery Mission” to explore all Catholic vocations!  The central theme is discovering your mission in life—your vocat...\\n\\nhttps://www.setonchurch.org/events/vacation-bible-camp/
URL:https://www.setonchurch.org/events/vacation-bible-camp/
DTSTAMP:20260421T020825Z
END:VEVENT
END:VCALENDAR
