BEGIN:VCALENDAR
VERSION:2.0
PRODID:-//ChurchDev//Events//EN
CALSCALE:GREGORIAN
METHOD:PUBLISH
BEGIN:VEVENT
UID:27669-20240908@www.setonchurch.org
SUMMARY:Confirmation Classes Begin
DTSTART:20240908T221500Z
DTEND:20240908T234500Z
DESCRIPTION:Confirmation classes\, 8th-11th grades\, are from 4:15-5:45 p.m.\, Sundays\, Sept. 8\, 2024-April 2025.\\n\\nhttps://www.setonchurch.org/events/confirmation-classes-begin-3/
URL:https://www.setonchurch.org/events/confirmation-classes-begin-3/
DTSTAMP:20260423T043236Z
END:VEVENT
END:VCALENDAR
