BEGIN:VCALENDAR
VERSION:2.0
PRODID:-//ChurchDev//Events//EN
CALSCALE:GREGORIAN
METHOD:PUBLISH
BEGIN:VEVENT
UID:28379-20250809@www.setonchurch.org
SUMMARY:PoBoy Ticket Sale
DTSTART;VALUE=DATE:20250809
DTEND;VALUE=DATE:20250810
DESCRIPTION:KC 5345 will sell sausage poboy tickets after all Masses for $5 each.\\nPickup will be Aug. 24 from 11 a.m.-1 p.m. or until all are sold.\\n\\nhttps://www.setonchurch.org/events/poboy-ticket-sale-2/
URL:https://www.setonchurch.org/events/poboy-ticket-sale-2/
DTSTAMP:20260420T101308Z
END:VEVENT
END:VCALENDAR
