BEGIN:VCALENDAR
VERSION:2.0
PRODID:-//ChurchDev//Events//EN
CALSCALE:GREGORIAN
METHOD:PUBLISH
BEGIN:VEVENT
UID:29022-20260503@www.setonchurch.org
SUMMARY:May Crowning Mass
DTSTART:20260503T160000Z
DTEND:20260503T170000Z
DESCRIPTION:https://www.setonchurch.org/events/may-crowning-mass/
URL:https://www.setonchurch.org/events/may-crowning-mass/
DTSTAMP:20260420T031750Z
END:VEVENT
END:VCALENDAR
