BEGIN:VCALENDAR
VERSION:2.0
PRODID:-//ChurchDev//Events//EN
CALSCALE:GREGORIAN
METHOD:PUBLISH
BEGIN:VEVENT
UID:29023-20260601@www.setonchurch.org
SUMMARY:Vacation Bible Camp
DTSTART:20260601T143000Z
DTEND:20260601T180500Z
DESCRIPTION:&#8220\;Cathletics! Training to Be Champions for Christ&#8221\;\\nFor children entering K-5th grade\\n\\nhttps://www.setonchurch.org/events/vacation-bible-camp-4/
URL:https://www.setonchurch.org/events/vacation-bible-camp-4/
DTSTAMP:20260420T031750Z
END:VEVENT
END:VCALENDAR
