BEGIN:VCALENDAR
VERSION:2.0
PRODID:-//ChurchDev//Events//EN
CALSCALE:GREGORIAN
METHOD:PUBLISH
BEGIN:VEVENT
UID:4483-20160718@www.setonchurch.org
SUMMARY:Vacation Bible School
DTSTART;VALUE=DATE:20160718
DTEND;VALUE=DATE:20160719
DESCRIPTION:https://www.setonchurch.org/events/vacation-bible-school/
URL:https://www.setonchurch.org/events/vacation-bible-school/
DTSTAMP:20260421T040201Z
END:VEVENT
END:VCALENDAR
